BEGIN:VCALENDAR
VERSION:2.0
PRODID:-//Fully For Jesus - ECPv6.15.20//NONSGML v1.0//EN
CALSCALE:GREGORIAN
METHOD:PUBLISH
X-WR-CALNAME:Fully For Jesus
X-ORIGINAL-URL:https://fullyforjesus.com
X-WR-CALDESC:Events for Fully For Jesus
REFRESH-INTERVAL;VALUE=DURATION:PT1H
X-Robots-Tag:noindex
X-PUBLISHED-TTL:PT1H
BEGIN:VTIMEZONE
TZID:Africa/Johannesburg
BEGIN:STANDARD
TZOFFSETFROM:+0200
TZOFFSETTO:+0200
TZNAME:SAST
DTSTART:20250101T000000
END:STANDARD
END:VTIMEZONE
BEGIN:VEVENT
DTSTART;VALUE=DATE:20260911
DTEND;VALUE=DATE:20260914
DTSTAMP:20260421T174532
CREATED:20260323T200542Z
LAST-MODIFIED:20260323T200759Z
UID:10000006-1789084800-1789343999@fullyforjesus.com
SUMMARY:Mannekamp September 2026
DESCRIPTION:MANNEKAMP 2026: Is jy reg vir die volgende vlak? 🔥 \nSluit by ons aan vir ‘n naweek van krag\, broederskap en geestelike hernuwing. Ons delf in die Woord en vertrou dat elke man God op ‘n nuwe\, kragtige manier sal ontmoet. \n📍 Waar: Woord In Aksie Pretoria Kampterrein \n📅 Wanneer: 11 – 13 September 2026 \n🎟️ Koste: R950 p.p. (Jou kaartjie sluit alle etes en verblyf vir die hele naweek in!) \nOns het ‘n vol program wat jou geestelik gaan versterk en toerus. Moenie hierdie geleentheid misloop om saam met ander manne in die bres te tree nie. \n🔗 Bespreek jou plek nou
URL:https://fullyforjesus.com/camp/mannekamp-september-2026/
LOCATION:Woord in Aksie Pretoria\, Plot 227 Sysierd\, Derdepoort\, Pretoria\, Gauteng\, 0186\, South Africa
CATEGORIES:Mannekamp
ATTACH;FMTTYPE=image/jpeg:https://fullyforjesus.com/wp-content/uploads/2026/03/Mannekamp-Sep-2026-FB.jpg
END:VEVENT
END:VCALENDAR