BEGIN:VCALENDAR
VERSION:2.0
PRODID:-//Fully For Jesus - ECPv6.15.20//NONSGML v1.0//EN
CALSCALE:GREGORIAN
METHOD:PUBLISH
X-WR-CALNAME:Fully For Jesus
X-ORIGINAL-URL:https://fullyforjesus.com
X-WR-CALDESC:Events for Fully For Jesus
REFRESH-INTERVAL;VALUE=DURATION:PT1H
X-Robots-Tag:noindex
X-PUBLISHED-TTL:PT1H
BEGIN:VTIMEZONE
TZID:Africa/Johannesburg
BEGIN:STANDARD
TZOFFSETFROM:+0200
TZOFFSETTO:+0200
TZNAME:SAST
DTSTART:20250101T000000
END:STANDARD
END:VTIMEZONE
BEGIN:VEVENT
DTSTART;VALUE=DATE:20261002
DTEND;VALUE=DATE:20261005
DTSTAMP:20260421T174332
CREATED:20260323T201250Z
LAST-MODIFIED:20260323T201250Z
UID:10000007-1790899200-1791158399@fullyforjesus.com
SUMMARY:Vrouekamp Oktober 2026
DESCRIPTION:Vrou van God\, wanneer laas het jy tyd gemaak vir net JOU en jou Skepper? \nOns nooi jou hartlik uit na die eerste Voluit vir Jesus Vrouekamp. Dit is tyd om die geraas van die alledaagse lewe te verruil vir die stilte van Sy teenwoordigheid. Kom beleef ‘n naweek waar ons saam in die Woord delf\, genesing vind en herinner word aan die pragtige roeping wat God op jou lewe geplaas het. \n📅 Wanneer: 2 – 4 Oktober 2026 \n📍 Waar: Woord In Aksie Pretoria Kampterrein \n🎟️ Koste: R950 p.p. (Insluitend alle etes en verblyf vir die hele naweek) \nBreek saam met ons deur na die lewe waarvoor jy ontwerp is. \n🔗 Bespreek jou plek
URL:https://fullyforjesus.com/camp/vrouekamp-oktober-2026/
LOCATION:Woord in Aksie Pretoria\, Plot 227 Sysierd\, Derdepoort\, Pretoria\, Gauteng\, 0186\, South Africa
CATEGORIES:Vrouekamp
ATTACH;FMTTYPE=image/jpeg:https://fullyforjesus.com/wp-content/uploads/2026/03/Vrouekamp-Okt-2026-FB.jpg
END:VEVENT
END:VCALENDAR